BEGIN:VCALENDAR
VERSION:2.0
PRODID:-//MLREMS - ECPv6.15.20//NONSGML v1.0//EN
CALSCALE:GREGORIAN
METHOD:PUBLISH
X-ORIGINAL-URL:https://www.mlrems.org
X-WR-CALDESC:Events for MLREMS
REFRESH-INTERVAL;VALUE=DURATION:PT1H
X-Robots-Tag:noindex
X-PUBLISHED-TTL:PT1H
BEGIN:VTIMEZONE
TZID:America/New_York
BEGIN:DAYLIGHT
TZOFFSETFROM:-0500
TZOFFSETTO:-0400
TZNAME:EDT
DTSTART:20250309T070000
END:DAYLIGHT
BEGIN:STANDARD
TZOFFSETFROM:-0400
TZOFFSETTO:-0500
TZNAME:EST
DTSTART:20251102T060000
END:STANDARD
BEGIN:DAYLIGHT
TZOFFSETFROM:-0500
TZOFFSETTO:-0400
TZNAME:EDT
DTSTART:20260308T070000
END:DAYLIGHT
BEGIN:STANDARD
TZOFFSETFROM:-0400
TZOFFSETTO:-0500
TZNAME:EST
DTSTART:20261101T060000
END:STANDARD
BEGIN:DAYLIGHT
TZOFFSETFROM:-0500
TZOFFSETTO:-0400
TZNAME:EDT
DTSTART:20270314T070000
END:DAYLIGHT
BEGIN:STANDARD
TZOFFSETFROM:-0400
TZOFFSETTO:-0500
TZNAME:EST
DTSTART:20271107T060000
END:STANDARD
END:VTIMEZONE
BEGIN:VEVENT
DTSTART;TZID=America/New_York:20260501T083000
DTEND;TZID=America/New_York:20260501T170000
DTSTAMP:20260424T151430
CREATED:20260409T142246Z
LAST-MODIFIED:20260409T142336Z
UID:1516-1777624200-1777654800@www.mlrems.org
SUMMARY:Mercy Flight Central Spring Conference
DESCRIPTION:Mercy Flight Central Spring Conference \n0830-1700 \nHotel Canandaigua\, Tapestry Collection by Hilton \nFlyer
URL:https://www.mlrems.org/event/mercy-flight-central-spring-conference/
END:VEVENT
BEGIN:VEVENT
DTSTART;TZID=America/New_York:20260508T080000
DTEND;TZID=America/New_York:20260508T160000
DTSTAMP:20260424T151430
CREATED:20260309T144610Z
LAST-MODIFIED:20260409T142420Z
UID:1466-1778227200-1778256000@www.mlrems.org
SUMMARY:STEP Conference Day 1 of 2
DESCRIPTION:Registration: https://lp.constantcontactpages.com/ev/reg/7mnmrxx \nFor information about hotel rates (up to April 10th) vendor opportunities or other conference-related questions\, contact Sharon Chiumento: Sharon.chiumento@stepcouncil.org \nInformation on nominations for the Lloyd Leve or Joanna awards or the Chloe Alexon scholarship can be found on the STEP website: http://stepems.org/awards.html\nDeadline for nomination letters is April 10th \nFlyer
URL:https://www.mlrems.org/event/step-conference-day-1-of-2/
END:VEVENT
BEGIN:VEVENT
DTSTART;TZID=America/New_York:20260509T080000
DTEND;TZID=America/New_York:20260509T160000
DTSTAMP:20260424T151430
CREATED:20260309T144721Z
LAST-MODIFIED:20260409T142447Z
UID:1468-1778313600-1778342400@www.mlrems.org
SUMMARY:STEP Conference Day 2 of 2
DESCRIPTION:Registration: https://lp.constantcontactpages.com/ev/reg/7mnmrxx \nFor information about hotel rates (up to April 10th) vendor opportunities or other conference-related questions\, contact Sharon Chiumento: Sharon.chiumento@stepcouncil.org \nInformation on nominations for the Lloyd Leve or Joanna awards or the Chloe Alexon scholarship can be found on the STEP website: http://stepems.org/awards.html\nDeadline for nomination letters is April 10th \nFlyer
URL:https://www.mlrems.org/event/step-conference-day-2-of-2/
END:VEVENT
BEGIN:VEVENT
DTSTART;TZID=America/New_York:20260513T080000
DTEND;TZID=America/New_York:20260517T170000
DTSTAMP:20260424T151430
CREATED:20260409T142654Z
LAST-MODIFIED:20260409T142654Z
UID:1521-1778659200-1779037200@www.mlrems.org
SUMMARY:Primary Assessment Conference
DESCRIPTION:Primary Assessment Conference \nHigh Peaks Resort \nLake Placid\, NY \nRegistration required: Flyer
URL:https://www.mlrems.org/event/primary-assessment-conference/
END:VEVENT
BEGIN:VEVENT
DTSTART;TZID=America/New_York:20260514T120000
DTEND;TZID=America/New_York:20260514T160000
DTSTAMP:20260424T151430
CREATED:20260409T142834Z
LAST-MODIFIED:20260409T142834Z
UID:1523-1778760000-1778774400@www.mlrems.org
SUMMARY:Emergency Vehicle Operator Safety
DESCRIPTION:Emergency Vehicle Operator Safety \n1200-1600 \nVictor Farmington Ambulance \nFlyer
URL:https://www.mlrems.org/event/emergency-vehicle-operator-safety/
END:VEVENT
BEGIN:VEVENT
DTSTART;TZID=America/New_York:20260518T090000
DTEND;TZID=America/New_York:20260518T170000
DTSTAMP:20260424T151430
CREATED:20260409T142921Z
LAST-MODIFIED:20260409T142921Z
UID:1525-1779094800-1779123600@www.mlrems.org
SUMMARY:AHA ACLS
DESCRIPTION:AHA ACLS \n0900-1700 \nVictor Farmington Ambulance \nFlyer
URL:https://www.mlrems.org/event/aha-acls/
END:VEVENT
BEGIN:VEVENT
DTSTART;TZID=America/New_York:20260518T160000
DTEND;TZID=America/New_York:20260518T170000
DTSTAMP:20260424T151430
CREATED:20251218T105356Z
LAST-MODIFIED:20251218T105356Z
UID:1323-1779120000-1779123600@www.mlrems.org
SUMMARY:MLREMS Council Meeting
DESCRIPTION:When: Monday 5/18/2026 from 4:00pm to 5:00pm\nLocation: 1190 Scottsville Road\, Rochester\, NY 14624\nDetails: MLREMS Council Meeting
URL:https://www.mlrems.org/event/mlrems-council-meeting-4/
CATEGORIES:Meetings
END:VEVENT
BEGIN:VEVENT
DTSTART;TZID=America/New_York:20260528T090000
DTEND;TZID=America/New_York:20260529T170000
DTSTAMP:20260424T151430
CREATED:20260409T143013Z
LAST-MODIFIED:20260409T143020Z
UID:1527-1779958800-1780074000@www.mlrems.org
SUMMARY:Advanced Hazmat Life Support (AHLS) Provider
DESCRIPTION:Advanced Hazmat Life Support (AHLS) Provider \n0900-1700 \nURMC – Strong Memorial Hospital \nFlyer
URL:https://www.mlrems.org/event/advanced-hazmat-life-support-ahls-provider/
END:VEVENT
END:VCALENDAR